BEGIN:VCALENDAR
VERSION:2.0
PRODID:-//Piedmont Photography Club - ECPv6.15.20//NONSGML v1.0//EN
CALSCALE:GREGORIAN
METHOD:PUBLISH
X-WR-CALNAME:Piedmont Photography Club
X-ORIGINAL-URL:https://www.piedmontphotoclub.com
X-WR-CALDESC:Events for Piedmont Photography Club
REFRESH-INTERVAL;VALUE=DURATION:PT1H
X-Robots-Tag:noindex
X-PUBLISHED-TTL:PT1H
BEGIN:VTIMEZONE
TZID:America/New_York
BEGIN:DAYLIGHT
TZOFFSETFROM:-0500
TZOFFSETTO:-0400
TZNAME:EDT
DTSTART:20250309T070000
END:DAYLIGHT
BEGIN:STANDARD
TZOFFSETFROM:-0400
TZOFFSETTO:-0500
TZNAME:EST
DTSTART:20251102T060000
END:STANDARD
BEGIN:DAYLIGHT
TZOFFSETFROM:-0500
TZOFFSETTO:-0400
TZNAME:EDT
DTSTART:20260308T070000
END:DAYLIGHT
BEGIN:STANDARD
TZOFFSETFROM:-0400
TZOFFSETTO:-0500
TZNAME:EST
DTSTART:20261101T060000
END:STANDARD
BEGIN:DAYLIGHT
TZOFFSETFROM:-0500
TZOFFSETTO:-0400
TZNAME:EDT
DTSTART:20270314T070000
END:DAYLIGHT
BEGIN:STANDARD
TZOFFSETFROM:-0400
TZOFFSETTO:-0500
TZNAME:EST
DTSTART:20271107T060000
END:STANDARD
END:VTIMEZONE
BEGIN:VEVENT
DTSTART;TZID=America/New_York:20260512T190000
DTEND;TZID=America/New_York:20260512T210000
DTSTAMP:20260423T082635
CREATED:20250821T013703Z
LAST-MODIFIED:20250821T013703Z
UID:43837-1778612400-1778619600@www.piedmontphotoclub.com
SUMMARY:Presentation - TBD
DESCRIPTION:Please join us for our quarterly presentation! \nPlease check back for details once we they have been finalized.
URL:https://www.piedmontphotoclub.com/event/presentation-tbd-3/
LOCATION:TBD
CATEGORIES:Presentation
END:VEVENT
BEGIN:VEVENT
DTSTART;TZID=America/New_York:20260609T190000
DTEND;TZID=America/New_York:20260609T210000
DTSTAMP:20260423T082635
CREATED:20250821T011803Z
LAST-MODIFIED:20250821T011812Z
UID:43819-1781031600-1781038800@www.piedmontphotoclub.com
SUMMARY:Share & Tell
DESCRIPTION:Please join us for the final Share & Tell of the 2026 year! Open to all members in good standing\, each member may submit up to 6 images (digital and/or prints) to share.
URL:https://www.piedmontphotoclub.com/event/share-tell-8/
LOCATION:New Philadelphia Moravian Church\, 4440 Country Club Road\, Winston-Salem\, 27104\, United States
CATEGORIES:Share & Tell
END:VEVENT
BEGIN:VEVENT
DTSTART;TZID=America/New_York:20260714T190000
DTEND;TZID=America/New_York:20260714T210000
DTSTAMP:20260423T082635
CREATED:20250821T013056Z
LAST-MODIFIED:20250821T013056Z
UID:43830-1784055600-1784062800@www.piedmontphotoclub.com
SUMMARY:Contest - Theme is "Reflections in Glass"
DESCRIPTION:Please join us for the final contest of the club year!  Each member may enter up to 4 entries in one or more of the following categories: \n\nDigital Advanced Black & White\nDigital Advanced Color\nDigital Intermediate Black & White\nDigital Intermediate Color\nArtistically Produced (digital)\nPrint Advanced Black & White\nPrint Advanced Color\nPrint Intermediate Black & White\nPrint Intermediate Color\n\nAn additional entry may be entered in the contest theme category\, which is “Reflections in Glass”. \nContests are open to all members in good standing.  All entries must have been captured within the last 3 years.
URL:https://www.piedmontphotoclub.com/event/contest-theme-is-reflections-in-glass/
LOCATION:New Philadelphia Moravian Church\, 4440 Country Club Road\, Winston-Salem\, 27104\, United States
CATEGORIES:Contest
END:VEVENT
BEGIN:VEVENT
DTSTART;TZID=America/New_York:20260811T190000
DTEND;TZID=America/New_York:20260811T210000
DTSTAMP:20260423T082635
CREATED:20250821T014123Z
LAST-MODIFIED:20250821T014123Z
UID:43839-1786474800-1786482000@www.piedmontphotoclub.com
SUMMARY:End of Year Meeting
DESCRIPTION:Please join us for our annual business meeting in which we will conduct club business\, such as voting for officers.  We will also review all honorable mention images from our quarterly contests and vote for end of year contest entries in the print categories. \nPlease note all honorable mention prints must be present at this meeting to be included in the voting tally.
URL:https://www.piedmontphotoclub.com/event/end-of-year-meeting/
LOCATION:New Philadelphia Moravian Church\, 4440 Country Club Road\, Winston-Salem\, 27104\, United States
END:VEVENT
BEGIN:VEVENT
DTSTART;TZID=America/New_York:20260825T190000
DTEND;TZID=America/New_York:20260825T210000
DTSTAMP:20260423T082635
CREATED:20250821T014441Z
LAST-MODIFIED:20250821T014441Z
UID:43841-1787684400-1787691600@www.piedmontphotoclub.com
SUMMARY:End of Year Banquet
DESCRIPTION:Please join us as we share a meal and present our end of year awards\, celebrating another successful year. \nLocation details will be posted when they have been finalized.
URL:https://www.piedmontphotoclub.com/event/end-of-year-banquet/
LOCATION:TBD
END:VEVENT
END:VCALENDAR